BEGIN:VCALENDAR
VERSION:2.0
PRODID:-//Contratero//ES
CALSCALE:GREGORIAN
METHOD:PUBLISH
BEGIN:VEVENT
UID:2022 00000058@contratero.es
DTSTAMP:20260423T103229Z
DTSTART:20221104T235959
DTEND:20221105T005959
SUMMARY:Cierre: Servicio de mantenimiento correctivo y adaptativo 
DESCRIPTION:Servicio de mantenimiento correctivo y adaptativo del sistema de información de gestión comercial integrada del Centro Nacional de Información Geográfica\\n\\nOrganismo: Centro Nacional de Información Geográfica\\n\\nVer en Contratero: https://contratero.es/contracts/2022 00000058
URL:https://contratero.es/contracts/2022 00000058
STATUS:CONFIRMED
BEGIN:VALARM
TRIGGER:-P1D
ACTION:DISPLAY
DESCRIPTION:Recordatorio: Servicio de mantenimiento corr
END:VALARM
END:VEVENT
END:VCALENDAR